BEGIN:VCALENDAR
VERSION:2.0
PRODID:-//Friends of Jane Addams Music - ECPv6.15.17.1//NONSGML v1.0//EN
CALSCALE:GREGORIAN
METHOD:PUBLISH
X-ORIGINAL-URL:https://www.fojam.org
X-WR-CALDESC:Events for Friends of Jane Addams Music
REFRESH-INTERVAL;VALUE=DURATION:PT1H
X-Robots-Tag:noindex
X-PUBLISHED-TTL:PT1H
BEGIN:VTIMEZONE
TZID:America/Los_Angeles
BEGIN:DAYLIGHT
TZOFFSETFROM:-0800
TZOFFSETTO:-0700
TZNAME:PDT
DTSTART:20220313T100000
END:DAYLIGHT
BEGIN:STANDARD
TZOFFSETFROM:-0700
TZOFFSETTO:-0800
TZNAME:PST
DTSTART:20221106T090000
END:STANDARD
BEGIN:DAYLIGHT
TZOFFSETFROM:-0800
TZOFFSETTO:-0700
TZNAME:PDT
DTSTART:20230312T100000
END:DAYLIGHT
BEGIN:STANDARD
TZOFFSETFROM:-0700
TZOFFSETTO:-0800
TZNAME:PST
DTSTART:20231105T090000
END:STANDARD
BEGIN:DAYLIGHT
TZOFFSETFROM:-0800
TZOFFSETTO:-0700
TZNAME:PDT
DTSTART:20240310T100000
END:DAYLIGHT
BEGIN:STANDARD
TZOFFSETFROM:-0700
TZOFFSETTO:-0800
TZNAME:PST
DTSTART:20241103T090000
END:STANDARD
END:VTIMEZONE
BEGIN:VEVENT
DTSTART;TZID=America/Los_Angeles:20230601T190000
DTEND;TZID=America/Los_Angeles:20230601T200000
DTSTAMP:20260423T093407
CREATED:20230519T012115Z
LAST-MODIFIED:20230519T012115Z
UID:4943-1685646000-1685649600@www.fojam.org
SUMMARY:June Orchestra Concert
DESCRIPTION:Please join us for our final orchestra concert of the year.  This will include premier\, intermediate\, concert\, and chamber orchestras.  The performance will start at 7:00 pm in the JAMS auditorium.  Masks are not required\, but encouraged.  Please have your musician arrive at 6:30 pm and report to their director. \nPlease join us after the concert for some refreshments and visit our FOJAM table for information on how you can help with our music programs next year.
URL:https://www.fojam.org/event/june-orchestra-concert/
LOCATION:Jane Addams Middle School\, 11051 34th Ave NE\, Seattle\, WA\, 98125\, United States
END:VEVENT
BEGIN:VEVENT
DTSTART;TZID=America/Los_Angeles:20230608T070000
DTEND;TZID=America/Los_Angeles:20230608T200000
DTSTAMP:20260423T093407
CREATED:20230519T012458Z
LAST-MODIFIED:20230519T012458Z
UID:4945-1686207600-1686254400@www.fojam.org
SUMMARY:June Band Concert
DESCRIPTION:Please join us for our final band concert of the year.  This will include premier\, intermediate\, concert\, and jazz band.  The performance will start at 7:00 pm in the JAMS auditorium.  Masks are not required\, but encouraged.  Please have your musician arrive at 6:30 pm and report to their director. \nAlso\, join us after the concert for some refreshments and visit our FOJAM table for information on how you can help with our music programs next year.
URL:https://www.fojam.org/event/june-band-concert/
LOCATION:Jane Addams Middle School\, 11051 34th Ave NE\, Seattle\, WA\, 98125\, United States
END:VEVENT
BEGIN:VEVENT
DTSTART;VALUE=DATE:20230613
DTEND;VALUE=DATE:20230614
DTSTAMP:20260423T093407
CREATED:20230519T011409Z
LAST-MODIFIED:20230519T011409Z
UID:4940-1686614400-1686700799@www.fojam.org
SUMMARY:Concert Choir Sings National Anthem at Mariner's Game
DESCRIPTION:Come see our Concert Choir sing the National Anthem at the Seattle Mariner’s home game on June 13th!  The game starts at 6:40pm at T-Mobile park.
URL:https://www.fojam.org/event/concert-choir-sings-national-anthem-at-mariners-game/
LOCATION:T-Mobile Park
END:VEVENT
BEGIN:VEVENT
DTSTART;TZID=America/Los_Angeles:20230615T070000
DTEND;TZID=America/Los_Angeles:20230615T200000
DTSTAMP:20260423T093407
CREATED:20230519T012611Z
LAST-MODIFIED:20230519T012611Z
UID:4947-1686812400-1686859200@www.fojam.org
SUMMARY:June Choir Concert
DESCRIPTION:Please join us for our final choir concert of the year.  This will include intermediate and concert choirs.  The performance will start at 7:00 pm in the JAMS auditorium.  Masks are not required\, but encouraged.  Please have your musician arrive at 6:30 pm and report to their director. \nAlso\, join us after the concert for some refreshments and visit our FOJAM table for information on how you can help with our music programs next year.
URL:https://www.fojam.org/event/june-choir-concert/
LOCATION:Jane Addams Middle School\, 11051 34th Ave NE\, Seattle\, WA\, 98125\, United States
END:VEVENT
END:VCALENDAR