BEGIN:VCALENDAR
VERSION:2.0
PRODID:-//Friends of Jane Addams Music - ECPv6.15.17.1//NONSGML v1.0//EN
CALSCALE:GREGORIAN
METHOD:PUBLISH
X-WR-CALNAME:Friends of Jane Addams Music
X-ORIGINAL-URL:https://www.fojam.org
X-WR-CALDESC:Events for Friends of Jane Addams Music
REFRESH-INTERVAL;VALUE=DURATION:PT1H
X-Robots-Tag:noindex
X-PUBLISHED-TTL:PT1H
BEGIN:VTIMEZONE
TZID:America/Los_Angeles
BEGIN:DAYLIGHT
TZOFFSETFROM:-0800
TZOFFSETTO:-0700
TZNAME:PDT
DTSTART:20220313T100000
END:DAYLIGHT
BEGIN:STANDARD
TZOFFSETFROM:-0700
TZOFFSETTO:-0800
TZNAME:PST
DTSTART:20221106T090000
END:STANDARD
BEGIN:DAYLIGHT
TZOFFSETFROM:-0800
TZOFFSETTO:-0700
TZNAME:PDT
DTSTART:20230312T100000
END:DAYLIGHT
BEGIN:STANDARD
TZOFFSETFROM:-0700
TZOFFSETTO:-0800
TZNAME:PST
DTSTART:20231105T090000
END:STANDARD
BEGIN:DAYLIGHT
TZOFFSETFROM:-0800
TZOFFSETTO:-0700
TZNAME:PDT
DTSTART:20240310T100000
END:DAYLIGHT
BEGIN:STANDARD
TZOFFSETFROM:-0700
TZOFFSETTO:-0800
TZNAME:PST
DTSTART:20241103T090000
END:STANDARD
END:VTIMEZONE
BEGIN:VEVENT
DTSTART;TZID=America/Los_Angeles:20230316T190000
DTEND;TZID=America/Los_Angeles:20230316T200000
DTSTAMP:20260423T142138
CREATED:20230113T172215Z
LAST-MODIFIED:20230113T172215Z
UID:4799-1678993200-1678996800@www.fojam.org
SUMMARY:March orchestra concert
DESCRIPTION:Please join us for our mid-year orchestra concert.  This will include premier\, intermediate\, concert\, and chamber orchestras.  The performance will start at 7:00 pm in the JAMS auditorium.  Masks are not required\, but encouraged.  Please have your musician arrive at 6:30 pm and report to their director. \nClick here for guidelines on concert attire. \nIf you would like to volunteer for this event\, please click here for the SignUpGenius.
URL:https://www.fojam.org/event/march-orchestra-concert/
LOCATION:Jane Addams Middle School\, 11051 34th Ave NE\, Seattle\, WA\, 98125\, United States
CATEGORIES:Orchestra
END:VEVENT
BEGIN:VEVENT
DTSTART;TZID=America/Los_Angeles:20230323T190000
DTEND;TZID=America/Los_Angeles:20230323T200000
DTSTAMP:20260423T142138
CREATED:20230113T171726Z
LAST-MODIFIED:20230113T171943Z
UID:4794-1679598000-1679601600@www.fojam.org
SUMMARY:March band concert
DESCRIPTION:Please join us for our mid-year band concert.  This will include premier\, intermediate\, concert\, and jazz bands.  The performance will start at 7:00 pm in the JAMS auditorium.  Masks are not required\, but encouraged.  Please have your musician arrive at 6:30 pm and report to their director. \nClick here for guidelines on concert attire. \nIf you are able to volunteer for this concert\, please click here for the SignUpGenius.
URL:https://www.fojam.org/event/band-concert/
LOCATION:Jane Addams Middle School\, 11051 34th Ave NE\, Seattle\, WA\, 98125\, United States
END:VEVENT
BEGIN:VEVENT
DTSTART;TZID=America/Los_Angeles:20230330T190000
DTEND;TZID=America/Los_Angeles:20230330T200000
DTSTAMP:20260423T142138
CREATED:20230113T171547Z
LAST-MODIFIED:20230113T171906Z
UID:4792-1680202800-1680206400@www.fojam.org
SUMMARY:March choir concert
DESCRIPTION:Please join us for our mid-year choir concert.  This will include intermediate and concert choirs.  The performance will start at 7:00 pm in the JAMS auditorium.  Masks are not required\, but encouraged.  Please have your musician arrive by 6:30 pm and report to their director. \nCheck here for guidelines on concert attire. \nIf you are able to volunteer for this concert\, please click here for the SignUpGenius.
URL:https://www.fojam.org/event/march-choir-concert/
LOCATION:Jane Addams Middle School\, 11051 34th Ave NE\, Seattle\, WA\, 98125\, United States
END:VEVENT
END:VCALENDAR