BEGIN:VCALENDAR
VERSION:2.0
PRODID:-//Friends of Jane Addams Music - ECPv6.15.17.1//NONSGML v1.0//EN
CALSCALE:GREGORIAN
METHOD:PUBLISH
X-WR-CALNAME:Friends of Jane Addams Music
X-ORIGINAL-URL:https://www.fojam.org
X-WR-CALDESC:Events for Friends of Jane Addams Music
REFRESH-INTERVAL;VALUE=DURATION:PT1H
X-Robots-Tag:noindex
X-PUBLISHED-TTL:PT1H
BEGIN:VTIMEZONE
TZID:America/Los_Angeles
BEGIN:DAYLIGHT
TZOFFSETFROM:-0800
TZOFFSETTO:-0700
TZNAME:PDT
DTSTART:20180311T100000
END:DAYLIGHT
BEGIN:STANDARD
TZOFFSETFROM:-0700
TZOFFSETTO:-0800
TZNAME:PST
DTSTART:20181104T090000
END:STANDARD
BEGIN:DAYLIGHT
TZOFFSETFROM:-0800
TZOFFSETTO:-0700
TZNAME:PDT
DTSTART:20190310T100000
END:DAYLIGHT
BEGIN:STANDARD
TZOFFSETFROM:-0700
TZOFFSETTO:-0800
TZNAME:PST
DTSTART:20191103T090000
END:STANDARD
BEGIN:DAYLIGHT
TZOFFSETFROM:-0800
TZOFFSETTO:-0700
TZNAME:PDT
DTSTART:20200308T100000
END:DAYLIGHT
BEGIN:STANDARD
TZOFFSETFROM:-0700
TZOFFSETTO:-0800
TZNAME:PST
DTSTART:20201101T090000
END:STANDARD
BEGIN:DAYLIGHT
TZOFFSETFROM:-0800
TZOFFSETTO:-0700
TZNAME:PDT
DTSTART:20210314T100000
END:DAYLIGHT
BEGIN:STANDARD
TZOFFSETFROM:-0700
TZOFFSETTO:-0800
TZNAME:PST
DTSTART:20211107T090000
END:STANDARD
END:VTIMEZONE
BEGIN:VEVENT
DTSTART;TZID=America/Los_Angeles:20200623T100000
DTEND;TZID=America/Los_Angeles:20200627T170000
DTSTAMP:20260423T040931
CREATED:20200215T215322Z
LAST-MODIFIED:20200215T215322Z
UID:4097-1592906400-1593277200@www.fojam.org
SUMMARY:UW Jazz Workshop
DESCRIPTION:Dates not yet posted! \n10 a.m. – 5 p.m. Only students entering HS are eligible.  \nhttp://www.uwjazzworkshop.com/ \nFor a list of ALL summer camp options\, please see our 2020 Music Summer Camps post!
URL:https://www.fojam.org/event/uw-jazz-workshop/
LOCATION:WA\, United States
CATEGORIES:Band,Summer Camp
END:VEVENT
BEGIN:VEVENT
DTSTART;VALUE=DATE:20200622
DTEND;VALUE=DATE:20200623
DTSTAMP:20260423T040931
CREATED:20200215T205138Z
LAST-MODIFIED:20200215T205138Z
UID:4081-1592784000-1592870399@www.fojam.org
SUMMARY:SPS Summer Music\, All-City Band & Junior All-City Band
DESCRIPTION:Actual Dates TBD!!! \nThree weeks\, tbd.  9 a.m. to noon\, Jane Addams Middle School. Best for students who are entering 6th grade or have completed Intermediate Band or Orchestra; the All-City Bands are marching bands that perform in parades around the region. Super-fun!  \nMusic During Summer Break
URL:https://www.fojam.org/event/sps-summer-music-all-city-band-junior-all-city-band/
LOCATION:Jane Addams Middle School\, 11051 34th Ave NE\, Seattle\, WA\, 98125\, United States
CATEGORIES:Band,Orchestra,Summer Camp
END:VEVENT
BEGIN:VEVENT
DTSTART;TZID=America/Los_Angeles:20200614T190000
DTEND;TZID=America/Los_Angeles:20200614T210000
DTSTAMP:20260423T040931
CREATED:20191024T185628Z
LAST-MODIFIED:20191024T190253Z
UID:3917-1592161200-1592168400@www.fojam.org
SUMMARY:Final Jazz Concert
DESCRIPTION:Please drop your musician off at school by 6:30 pm
URL:https://www.fojam.org/event/final-jazz-concert/
LOCATION:Jane Addams Middle School\, 11051 34th Ave NE\, Seattle\, WA\, 98125\, United States
CATEGORIES:Band
END:VEVENT
BEGIN:VEVENT
DTSTART;TZID=America/Los_Angeles:20200611T190000
DTEND;TZID=America/Los_Angeles:20200611T210000
DTSTAMP:20260423T040931
CREATED:20191024T185453Z
LAST-MODIFIED:20191024T190215Z
UID:3913-1591902000-1591909200@www.fojam.org
SUMMARY:Orchestra Concert (all orchestras)
DESCRIPTION:Please drop your musician off at school by 6:30 pm
URL:https://www.fojam.org/event/orchestra-concert-all-orchestras-3/
LOCATION:Jane Addams Middle School\, 11051 34th Ave NE\, Seattle\, WA\, 98125\, United States
CATEGORIES:Orchestra
END:VEVENT
BEGIN:VEVENT
DTSTART;TZID=America/Los_Angeles:20200609T190000
DTEND;TZID=America/Los_Angeles:20200609T210000
DTSTAMP:20260423T040931
CREATED:20191024T185546Z
LAST-MODIFIED:20191024T185546Z
UID:3916-1591729200-1591736400@www.fojam.org
SUMMARY:Band Concert (All bands)
DESCRIPTION:Please drop your musician off at school by 6:30 pm
URL:https://www.fojam.org/event/band-concert-all-bands-3/
LOCATION:Jane Addams Middle School\, 11051 34th Ave NE\, Seattle\, WA\, 98125\, United States
CATEGORIES:Band
END:VEVENT
BEGIN:VEVENT
DTSTART;TZID=America/Los_Angeles:20200604T190000
DTEND;TZID=America/Los_Angeles:20200604T210000
DTSTAMP:20260423T040931
CREATED:20191024T185515Z
LAST-MODIFIED:20191024T185515Z
UID:3912-1591297200-1591304400@www.fojam.org
SUMMARY:Choir Concert (all choirs)
DESCRIPTION:Please drop your musician off at school by 6:30 pm
URL:https://www.fojam.org/event/choir-concert-all-choirs-3/
LOCATION:Jane Addams Middle School\, 11051 34th Ave NE\, Seattle\, WA\, 98125\, United States
CATEGORIES:Choir
END:VEVENT
BEGIN:VEVENT
DTSTART;VALUE=DATE:20200529
DTEND;VALUE=DATE:20200601
DTSTAMP:20260423T040931
CREATED:20191024T185202Z
LAST-MODIFIED:20200131T044623Z
UID:3906-1590710400-1590969599@www.fojam.org
SUMMARY:Camp Casey (SB)
DESCRIPTION:
URL:https://www.fojam.org/event/camp-casey-sb/
LOCATION:WA
CATEGORIES:Band
END:VEVENT
BEGIN:VEVENT
DTSTART;VALUE=DATE:20200508
DTEND;VALUE=DATE:20200509
DTSTAMP:20260423T040931
CREATED:20191024T190519Z
LAST-MODIFIED:20191024T190552Z
UID:3925-1588896000-1588982399@www.fojam.org
SUMMARY:Choir festival at Portland State (Portland) - TENTATIVE - Advanced Choir
DESCRIPTION:(Applications accepted starting on December 1)
URL:https://www.fojam.org/event/choir-festival-at-portland-state-portland-tentative/
LOCATION:WA
CATEGORIES:Choir
END:VEVENT
BEGIN:VEVENT
DTSTART;VALUE=DATE:20200508
DTEND;VALUE=DATE:20200509
DTSTAMP:20260423T040931
CREATED:20191024T185008Z
LAST-MODIFIED:20200310T022513Z
UID:3902-1588896000-1588982399@www.fojam.org
SUMMARY:Jr and Sr Band - Bellevue High School Jazz Festival
DESCRIPTION:
URL:https://www.fojam.org/event/bellevue-high-school-jazz-festival-sj/
LOCATION:Bellevue High School\, 10416 SE Wolverine Way\, Bellevue\, WA\, 98004\, United States
CATEGORIES:Band
END:VEVENT
BEGIN:VEVENT
DTSTART;VALUE=DATE:20200501
DTEND;VALUE=DATE:20200503
DTSTAMP:20260423T040931
CREATED:20191024T190108Z
LAST-MODIFIED:20200310T022108Z
UID:3923-1588291200-1588463999@www.fojam.org
SUMMARY:Senior Band Portland
DESCRIPTION:
URL:https://www.fojam.org/event/senior-band-portland-2020/
LOCATION:WA
CATEGORIES:Band
END:VEVENT
BEGIN:VEVENT
DTSTART;VALUE=DATE:20200327
DTEND;VALUE=DATE:20200328
DTSTAMP:20260423T040931
CREATED:20191024T185948Z
LAST-MODIFIED:20200310T021642Z
UID:3921-1585267200-1585353599@www.fojam.org
SUMMARY:CANCELLED - SPS Orchestra Festival March 27 (Junior Orchestra)
DESCRIPTION:
URL:https://www.fojam.org/event/sps-orchestra-festival-march-27-junior-orchestra/
LOCATION:WA
CATEGORIES:Orchestra
END:VEVENT
BEGIN:VEVENT
DTSTART;TZID=America/Los_Angeles:20200326T190000
DTEND;TZID=America/Los_Angeles:20200326T210000
DTSTAMP:20260423T040931
CREATED:20191024T184859Z
LAST-MODIFIED:20200310T021623Z
UID:3898-1585249200-1585256400@www.fojam.org
SUMMARY:CANCELLED - Orchestra Concert (all orchestras)
DESCRIPTION:Please drop your musician off at school by 6:30 pm
URL:https://www.fojam.org/event/orchestra-concert-all-orchestras-spring-2020/
LOCATION:Jane Addams Middle School\, 11051 34th Ave NE\, Seattle\, WA\, 98125\, United States
CATEGORIES:Orchestra
END:VEVENT
BEGIN:VEVENT
DTSTART;TZID=America/Los_Angeles:20200324T190000
DTEND;TZID=America/Los_Angeles:20200324T210000
DTSTAMP:20260423T040931
CREATED:20191024T184559Z
LAST-MODIFIED:20200310T021602Z
UID:3894-1585076400-1585083600@www.fojam.org
SUMMARY:CANCELLED - Choir Concert (all choirs)
DESCRIPTION:Please drop your musician off at school by 6:30 pm
URL:https://www.fojam.org/event/choir-concert-all-choirs-spring-2020/
LOCATION:Jane Addams Middle School\, 11051 34th Ave NE\, Seattle\, WA\, 98125\, United States
CATEGORIES:Choir
END:VEVENT
BEGIN:VEVENT
DTSTART;TZID=America/Los_Angeles:20200319T190000
DTEND;TZID=America/Los_Angeles:20200319T210000
DTSTAMP:20260423T040931
CREATED:20191024T184648Z
LAST-MODIFIED:20200310T021515Z
UID:3896-1584644400-1584651600@www.fojam.org
SUMMARY:CANCELLED - Band Concert (All bands)
DESCRIPTION:  \nPlease drop your musician off at school by 6:30 pm
URL:https://www.fojam.org/event/2020-spring-band-concert-all-bands/
LOCATION:Jane Addams Middle School\, 11051 34th Ave NE\, Seattle\, WA\, 98125\, United States
CATEGORIES:Band
END:VEVENT
BEGIN:VEVENT
DTSTART;TZID=America/Los_Angeles:20200313T160000
DTEND;TZID=America/Los_Angeles:20200313T180000
DTSTAMP:20260423T040931
CREATED:20191024T184258Z
LAST-MODIFIED:20200310T022309Z
UID:3889-1584115200-1584122400@www.fojam.org
SUMMARY:CANCELLED - Intermediate Band "Team Friday"
DESCRIPTION:
URL:https://www.fojam.org/event/ib-team-friday-mar-2020/
LOCATION:Jane Addams Middle School\, 11051 34th Ave NE\, Seattle\, WA\, 98125\, United States
CATEGORIES:Band
END:VEVENT
BEGIN:VEVENT
DTSTART;VALUE=DATE:20200310
DTEND;VALUE=DATE:20200311
DTSTAMP:20260423T040931
CREATED:20191024T184502Z
LAST-MODIFIED:20200310T021433Z
UID:3892-1583798400-1583884799@www.fojam.org
SUMMARY:CANCELLED - SPS Band Festival (JB)
DESCRIPTION:
URL:https://www.fojam.org/event/sps-band-festival-tentative-date-jb/
LOCATION:WA
CATEGORIES:Band
END:VEVENT
BEGIN:VEVENT
DTSTART;VALUE=DATE:20200210
DTEND;VALUE=DATE:20200211
DTSTAMP:20260423T040931
CREATED:20191024T183003Z
LAST-MODIFIED:20191024T183003Z
UID:3885-1581292800-1581379199@www.fojam.org
SUMMARY:PNW Band Festival (SB)
DESCRIPTION:
URL:https://www.fojam.org/event/pnw-band-festival-sb/
LOCATION:WA
CATEGORIES:Band
END:VEVENT
BEGIN:VEVENT
DTSTART;VALUE=DATE:20200207
DTEND;VALUE=DATE:20200208
DTSTAMP:20260423T040931
CREATED:20191024T190851Z
LAST-MODIFIED:20191024T190907Z
UID:3930-1581033600-1581119999@www.fojam.org
SUMMARY:Seattle SD Choir Festival
DESCRIPTION:Intermediate and Advanced Choirs. Beginning TBD
URL:https://www.fojam.org/event/seattle-sd-choir-festival/
LOCATION:Eckstein Middle School
CATEGORIES:Choir
END:VEVENT
BEGIN:VEVENT
DTSTART;VALUE=DATE:20200129
DTEND;VALUE=DATE:20200130
DTSTAMP:20260423T040931
CREATED:20191024T182844Z
LAST-MODIFIED:20191024T182844Z
UID:3883-1580256000-1580342399@www.fojam.org
SUMMARY:Bellevue College Jazz Festival (SJ)
DESCRIPTION:
URL:https://www.fojam.org/event/bellevue-college-jazz-festival-sj/
LOCATION:WA
CATEGORIES:Band
END:VEVENT
BEGIN:VEVENT
DTSTART;VALUE=DATE:20200125
DTEND;VALUE=DATE:20200126
DTSTAMP:20260423T040931
CREATED:20191024T182630Z
LAST-MODIFIED:20191024T182630Z
UID:3878-1579910400-1579996799@www.fojam.org
SUMMARY:UW Jazz Festival
DESCRIPTION:
URL:https://www.fojam.org/event/uw-jazz-festival/
LOCATION:WA
CATEGORIES:Band
END:VEVENT
BEGIN:VEVENT
DTSTART;TZID=America/Los_Angeles:20200122T190000
DTEND;TZID=America/Los_Angeles:20200122T210000
DTSTAMP:20260423T040931
CREATED:20191024T182730Z
LAST-MODIFIED:20191024T190730Z
UID:3880-1579719600-1579726800@www.fojam.org
SUMMARY:Outreach Choir Festival (@Roosevelt HS\, 7:00 pm)
DESCRIPTION:
URL:https://www.fojam.org/event/outreach-choir-festival-roosevelt-hs-700-pm/
LOCATION:Roosevelt High School
CATEGORIES:Choir
END:VEVENT
BEGIN:VEVENT
DTSTART;VALUE=DATE:20200110
DTEND;VALUE=DATE:20200111
DTSTAMP:20260423T040931
CREATED:20191024T182410Z
LAST-MODIFIED:20191024T182410Z
UID:3876-1578614400-1578700799@www.fojam.org
SUMMARY:SPS Middle School Choir Festival
DESCRIPTION:
URL:https://www.fojam.org/event/sps-middle-school-choir-festival/
LOCATION:WA
CATEGORIES:Choir
END:VEVENT
BEGIN:VEVENT
DTSTART;VALUE=DATE:20200107
DTEND;VALUE=DATE:20200111
DTSTAMP:20260423T040931
CREATED:20191024T182216Z
LAST-MODIFIED:20191024T182216Z
UID:3874-1578355200-1578700799@www.fojam.org
SUMMARY:JEN Nat’l Conference\, NOLA (SJ)
DESCRIPTION:
URL:https://www.fojam.org/event/jen-natl-conference-nola-sj/
LOCATION:WA
CATEGORIES:Band
END:VEVENT
BEGIN:VEVENT
DTSTART;TZID=America/Los_Angeles:20191219T190000
DTEND;TZID=America/Los_Angeles:20191219T210000
DTSTAMP:20260423T040931
CREATED:20191024T182130Z
LAST-MODIFIED:20191024T182130Z
UID:3872-1576782000-1576789200@www.fojam.org
SUMMARY:Choir Concert (all choirs)
DESCRIPTION:Please drop your musician off at school by 6:30 pm
URL:https://www.fojam.org/event/choir-concert-all-choirs/
LOCATION:Jane Addams Middle School\, 11051 34th Ave NE\, Seattle\, WA\, 98125\, United States
CATEGORIES:Choir
END:VEVENT
BEGIN:VEVENT
DTSTART;TZID=America/Los_Angeles:20191212T190000
DTEND;TZID=America/Los_Angeles:20191212T190000
DTSTAMP:20260423T040931
CREATED:20191024T182018Z
LAST-MODIFIED:20191202T065215Z
UID:3870-1576177200-1576177200@www.fojam.org
SUMMARY:Orchestra Concert (all orchestras)
DESCRIPTION:Please drop your musician off at school by 6:30 pm\nWe need volunteers to help with setup\, band room chaperone\, etc.  Please help us produce a great concert for our musicians! \nSign Up to Volunteer at the Concert
URL:https://www.fojam.org/event/orchestra-concert-all-orchestras/
LOCATION:Jane Addams Middle School\, 11051 34th Ave NE\, Seattle\, WA\, 98125\, United States
CATEGORIES:Orchestra
END:VEVENT
BEGIN:VEVENT
DTSTART;TZID=America/Los_Angeles:20191210T190000
DTEND;TZID=America/Los_Angeles:20191210T190000
DTSTAMP:20260423T040931
CREATED:20191024T181223Z
LAST-MODIFIED:20191202T065058Z
UID:3867-1576004400-1576004400@www.fojam.org
SUMMARY:Band Concert (All bands)
DESCRIPTION:Please drop your musician off at school by 6:30 pm.\nWe need volunteers to help with setup\, band room chaperone\, etc.  Please help us produce a great concert for our musicians! \nSign Up to Volunteer at the Concert
URL:https://www.fojam.org/event/band-concert-all-bands/
LOCATION:Jane Addams Middle School\, 11051 34th Ave NE\, Seattle\, WA\, 98125\, United States
CATEGORIES:Band
END:VEVENT
BEGIN:VEVENT
DTSTART;VALUE=DATE:20191130
DTEND;VALUE=DATE:20191201
DTSTAMP:20260423T040931
CREATED:20191024T181114Z
LAST-MODIFIED:20191024T181114Z
UID:3865-1575072000-1575158399@www.fojam.org
SUMMARY:Mill Creek Jazz Festival (Saturday) (SJ)
DESCRIPTION:
URL:https://www.fojam.org/event/mill-creek-jazz-festival-saturday-sj/
LOCATION:WA
CATEGORIES:Band
END:VEVENT
BEGIN:VEVENT
DTSTART;TZID=America/Los_Angeles:20191107T190000
DTEND;TZID=America/Los_Angeles:20191107T210000
DTSTAMP:20260423T040931
CREATED:20191028T162649Z
LAST-MODIFIED:20191028T215338Z
UID:3942-1573153200-1573160400@www.fojam.org
SUMMARY:Senior Jazz Benefit Concert
DESCRIPTION:Thursday November 7 at 7 pm in the JAMS Auditorium\, join us for a benefit concert for the Jane Addams senior jazz band and their trip to New Orleans. Senior jazz\, advanced choir\, and chamber orchestra will be joined by a performance by an alumni all-star jazz combo and guest artist Alex Dugdale to round out this incredible event. All JAMS friends\, families and neighbors welcome! \nJAMS senior jazz was the only middle school selected to be featured at the highly prestigious Jazz Educator’s Network Conference (JEN) held in January in New Orleans. This is a tremendous honor and once in a lifetime educational opportunity.  \nHelp our dedicated musicians get there\, suggested donation $10.You can also donate online here!
URL:https://www.fojam.org/event/senior-jazz-benefit-concert/
LOCATION:Jane Addams Middle School\, 11051 34th Ave NE\, Seattle\, WA\, 98125\, United States
CATEGORIES:Band,Choir,Orchestra
ATTACH;FMTTYPE=image/jpeg:https://www.fojam.org/wp-content/uploads/2019/10/Concert-Poster.jpg
ORGANIZER;CN="Stephanie Morris":MAILTO:stephknowsbest@yahoo.com
END:VEVENT
BEGIN:VEVENT
DTSTART;VALUE=DATE:20191031
DTEND;VALUE=DATE:20191101
DTSTAMP:20260423T040931
CREATED:20191024T175741Z
LAST-MODIFIED:20191024T175741Z
UID:3859-1572480000-1572566399@www.fojam.org
SUMMARY:Recruiting Concert
DESCRIPTION:
URL:https://www.fojam.org/event/recruiting-concert/
LOCATION:WA
CATEGORIES:Band,Choir,Orchestra
END:VEVENT
BEGIN:VEVENT
DTSTART;VALUE=DATE:20191026
DTEND;VALUE=DATE:20191027
DTSTAMP:20260423T040931
CREATED:20191024T175640Z
LAST-MODIFIED:20191024T201107Z
UID:3857-1572048000-1572134399@www.fojam.org
SUMMARY:Edmonds School District Jazz Symposium (SJ)
DESCRIPTION:
URL:https://www.fojam.org/event/edmonds-school-district-jazz-symposium-sj/
LOCATION:WA
CATEGORIES:Band
END:VEVENT
END:VCALENDAR