BEGIN:VCALENDAR
VERSION:2.0
PRODID:-//Friends of Jane Addams Music - ECPv6.15.17.1//NONSGML v1.0//EN
CALSCALE:GREGORIAN
METHOD:PUBLISH
X-WR-CALNAME:Friends of Jane Addams Music
X-ORIGINAL-URL:https://www.fojam.org
X-WR-CALDESC:Events for Friends of Jane Addams Music
REFRESH-INTERVAL;VALUE=DURATION:PT1H
X-Robots-Tag:noindex
X-PUBLISHED-TTL:PT1H
BEGIN:VTIMEZONE
TZID:America/Los_Angeles
BEGIN:DAYLIGHT
TZOFFSETFROM:-0800
TZOFFSETTO:-0700
TZNAME:PDT
DTSTART:20190310T100000
END:DAYLIGHT
BEGIN:STANDARD
TZOFFSETFROM:-0700
TZOFFSETTO:-0800
TZNAME:PST
DTSTART:20191103T090000
END:STANDARD
BEGIN:DAYLIGHT
TZOFFSETFROM:-0800
TZOFFSETTO:-0700
TZNAME:PDT
DTSTART:20200308T100000
END:DAYLIGHT
BEGIN:STANDARD
TZOFFSETFROM:-0700
TZOFFSETTO:-0800
TZNAME:PST
DTSTART:20201101T090000
END:STANDARD
BEGIN:DAYLIGHT
TZOFFSETFROM:-0800
TZOFFSETTO:-0700
TZNAME:PDT
DTSTART:20210314T100000
END:DAYLIGHT
BEGIN:STANDARD
TZOFFSETFROM:-0700
TZOFFSETTO:-0800
TZNAME:PST
DTSTART:20211107T090000
END:STANDARD
BEGIN:DAYLIGHT
TZOFFSETFROM:-0800
TZOFFSETTO:-0700
TZNAME:PDT
DTSTART:20220313T100000
END:DAYLIGHT
BEGIN:STANDARD
TZOFFSETFROM:-0700
TZOFFSETTO:-0800
TZNAME:PST
DTSTART:20221106T090000
END:STANDARD
BEGIN:DAYLIGHT
TZOFFSETFROM:-0800
TZOFFSETTO:-0700
TZNAME:PDT
DTSTART:20230312T100000
END:DAYLIGHT
BEGIN:STANDARD
TZOFFSETFROM:-0700
TZOFFSETTO:-0800
TZNAME:PST
DTSTART:20231105T090000
END:STANDARD
BEGIN:DAYLIGHT
TZOFFSETFROM:-0800
TZOFFSETTO:-0700
TZNAME:PDT
DTSTART:20240310T100000
END:DAYLIGHT
BEGIN:STANDARD
TZOFFSETFROM:-0700
TZOFFSETTO:-0800
TZNAME:PST
DTSTART:20241103T090000
END:STANDARD
BEGIN:DAYLIGHT
TZOFFSETFROM:-0800
TZOFFSETTO:-0700
TZNAME:PDT
DTSTART:20250309T100000
END:DAYLIGHT
BEGIN:STANDARD
TZOFFSETFROM:-0700
TZOFFSETTO:-0800
TZNAME:PST
DTSTART:20251102T090000
END:STANDARD
BEGIN:DAYLIGHT
TZOFFSETFROM:-0800
TZOFFSETTO:-0700
TZNAME:PDT
DTSTART:20260308T100000
END:DAYLIGHT
BEGIN:STANDARD
TZOFFSETFROM:-0700
TZOFFSETTO:-0800
TZNAME:PST
DTSTART:20261101T090000
END:STANDARD
END:VTIMEZONE
BEGIN:VEVENT
DTSTART;VALUE=DATE:20250401
DTEND;VALUE=DATE:20250402
DTSTAMP:20260421T150249
CREATED:20250318T044557Z
LAST-MODIFIED:20250318T050628Z
UID:5347-1743465600-1743551999@www.fojam.org
SUMMARY:Red Robin Fundraiser
DESCRIPTION:Come support music at Jane Addams by dining out at Red Robin on Tuesday\, April 1st! Twenty percent of sales will go to FOJAM to benefit music programs for all students at JAMS. \n 
URL:https://www.fojam.org/event/red-robin-fundraiser/
LOCATION:Red Robin\, 401 NE Northgate Way #430\, Seattle\, WA\, 98125\, United States
CATEGORIES:Band,Choir,Orchestra
ATTACH;FMTTYPE=application/pdf:https://www.fojam.org/wp-content/uploads/2025/03/Fojam_RedRobin_Flyer_2025.pdf
END:VEVENT
BEGIN:VEVENT
DTSTART;TZID=America/Los_Angeles:20250318T190000
DTEND;TZID=America/Los_Angeles:20250318T210000
DTSTAMP:20260421T150249
CREATED:20250129T005049Z
LAST-MODIFIED:20250129T005521Z
UID:5325-1742324400-1742331600@www.fojam.org
SUMMARY:Orchestra Spring Concert 2025
DESCRIPTION:Please join us for the second orchestra concert of the school year featuring the premier\, intermediate\, concert\, and chamber orchestras.  The performance will take place on Tuesday\, March 18th starting at 7:00pm in the JAMS auditorium. Please have your musician arrive at 6:30pm and report to their director. \nClick here for guidelines on concert attire.
URL:https://www.fojam.org/event/orchestra-spring-concert/
LOCATION:Jane Addams Middle School\, 11051 34th Ave NE\, Seattle\, WA\, 98125\, United States
CATEGORIES:Orchestra
END:VEVENT
BEGIN:VEVENT
DTSTART;VALUE=DATE:20250107
DTEND;VALUE=DATE:20250108
DTSTAMP:20260421T150249
CREATED:20241218T172944Z
LAST-MODIFIED:20241218T172944Z
UID:5312-1736208000-1736294399@www.fojam.org
SUMMARY:MOD Pizza Fundraiser
DESCRIPTION:Please support FOJAM and enjoy a delicious dinner on Tuesday\, January 7th by ordering from MOD Pizza in Lake Forest Park. 25% of your bill will benefit music programs at Jane Addams! You can order in person or online using the code MODGIVES25. \n \n 
URL:https://www.fojam.org/event/mod-pizza-fundraiser-2/
LOCATION:MOD Pizza\, 17171 Bothell Way NE Suite A004\, Lake Forest Park\, 98155\, United States
CATEGORIES:Band,Choir,Orchestra
END:VEVENT
BEGIN:VEVENT
DTSTART;TZID=America/Los_Angeles:20241212T190000
DTEND;TZID=America/Los_Angeles:20241212T210000
DTSTAMP:20260421T150249
CREATED:20241029T035257Z
LAST-MODIFIED:20241029T035334Z
UID:5258-1734030000-1734037200@www.fojam.org
SUMMARY:Orchestra Winter Concert
DESCRIPTION:Please join us for the first orchestra concert of the year featuring the premier\, intermediate\, concert\, and chamber orchestras.  The performance will take place on Thursday\, December 12th starting at 7:00pm in the JAMS auditorium. Please have your musician arrive at 6:30pm and report to their director. \nClick here for guidelines on concert attire.
URL:https://www.fojam.org/event/orchestra-winter-concert-2/
LOCATION:Jane Addams Middle School\, 11051 34th Ave NE\, Seattle\, WA\, 98125\, United States
CATEGORIES:Orchestra
END:VEVENT
BEGIN:VEVENT
DTSTART;TZID=America/Los_Angeles:20240606T190000
DTEND;TZID=America/Los_Angeles:20240606T210000
DTSTAMP:20260421T150249
CREATED:20240507T183241Z
LAST-MODIFIED:20240507T183241Z
UID:5180-1717700400-1717707600@www.fojam.org
SUMMARY:June orchestra concert
DESCRIPTION:Please join us for our final orchestra concert of the school year featuring the premier\, intermediate\, concert\, and chamber orchestras. The performance will start at 7:00 pm in the JAMS auditorium. Please have your musician arrive at 6:30 pm and report to their director. \nClick here for guidelines on concert attire.
URL:https://www.fojam.org/event/june-orchestra-concert-2/
LOCATION:Jane Addams Middle School\, 11051 34th Ave NE\, Seattle\, WA\, 98125\, United States
CATEGORIES:Orchestra
END:VEVENT
BEGIN:VEVENT
DTSTART;TZID=America/Los_Angeles:20240321T190000
DTEND;TZID=America/Los_Angeles:20240321T190000
DTSTAMP:20260421T150249
CREATED:20240208T050027Z
LAST-MODIFIED:20240208T050027Z
UID:5131-1711047600-1711047600@www.fojam.org
SUMMARY:March orchestra concert
DESCRIPTION:Please join us for our mid-year orchestra concert featuring the premier\, intermediate\, concert\, and chamber orchestras. The performance will start at 7:00 pm in the JAMS auditorium. Please have your musician arrive at 6:30 pm and report to their director. \nClick here for guidelines on concert attire.
URL:https://www.fojam.org/event/march-orchestra-concert-2/
LOCATION:Jane Addams Middle School\, 11051 34th Ave NE\, Seattle\, WA\, 98125\, United States
CATEGORIES:Orchestra
END:VEVENT
BEGIN:VEVENT
DTSTART;VALUE=DATE:20240321
DTEND;VALUE=DATE:20240322
DTSTAMP:20260421T150249
CREATED:20240307T051656Z
LAST-MODIFIED:20240307T051656Z
UID:5161-1710979200-1711065599@www.fojam.org
SUMMARY:FOJAM is having a raffle!
DESCRIPTION:Raffle tickets will be for sale after the band concert on March 7th and the choir concert on March 14th\, as well as before the orchestra concert on March 21st. Winners will be announced following the orchestra concert on the 21st. Please find more details online here. All proceeds go to support music programs at Jane Addams Middle School.
URL:https://www.fojam.org/event/fojam-is-having-a-raffle/
LOCATION:Jane Addams Middle School\, 11051 34th Ave NE\, Seattle\, WA\, 98125\, United States
CATEGORIES:Band,Choir,Orchestra
ATTACH;FMTTYPE=image/png:https://www.fojam.org/wp-content/uploads/2024/03/image.png
END:VEVENT
BEGIN:VEVENT
DTSTART;VALUE=DATE:20240321
DTEND;VALUE=DATE:20240322
DTSTAMP:20260421T150249
CREATED:20240217T164222Z
LAST-MODIFIED:20240217T164222Z
UID:5139-1710979200-1711065599@www.fojam.org
SUMMARY:Intermediate Orchestra & Band field trip to Whitman Middle School
DESCRIPTION:The intermediate orchestra and band are attending the Whitman Middle School for EBMEA Band Festival\, times TBD.
URL:https://www.fojam.org/event/intermediate-orchestra-band-field-trip-to-whitman-middle-school/
LOCATION:Whitman Middle School\, 9201 15th Ave NW\, Seattle\, WA\, 98117
CATEGORIES:Band,Orchestra
END:VEVENT
BEGIN:VEVENT
DTSTART;VALUE=DATE:20240317
DTEND;VALUE=DATE:20240318
DTSTAMP:20260421T150249
CREATED:20240307T045837Z
LAST-MODIFIED:20240307T045837Z
UID:5153-1710633600-1710719999@www.fojam.org
SUMMARY:MOD Pizza Fundraiser
DESCRIPTION:Please support FOJAM on March 17th\, 2024\, by ordering from MOD Pizza in Lake Forest Park. 25% of your bill will benefit music programs at Jane Addams! \n 
URL:https://www.fojam.org/event/mod-pizza-fundraiser/
LOCATION:MOD Pizza\, 17171 Bothell Way NE Suite A004\, Lake Forest Park\, 98155\, United States
CATEGORIES:Band,Choir,Orchestra
END:VEVENT
BEGIN:VEVENT
DTSTART;VALUE=DATE:20240315
DTEND;VALUE=DATE:20240316
DTSTAMP:20260421T150249
CREATED:20240217T163740Z
LAST-MODIFIED:20240217T163740Z
UID:5136-1710460800-1710547199@www.fojam.org
SUMMARY:Concert & Chamber Orchestra field trip to WWU
DESCRIPTION:Both concert and chamber orchestras travel to WWU for the Western Washington University Orchestra Festival.
URL:https://www.fojam.org/event/concert-chamber-orchestra-field-trip-to-wwu/
LOCATION:Western Washington University\, 516 High St\, Billingham\, WA\, 98225
CATEGORIES:Orchestra
END:VEVENT
BEGIN:VEVENT
DTSTART;TZID=America/Los_Angeles:20231207T190000
DTEND;TZID=America/Los_Angeles:20231207T203000
DTSTAMP:20260421T150249
CREATED:20231023T135032Z
LAST-MODIFIED:20231023T135032Z
UID:5025-1701975600-1701981000@www.fojam.org
SUMMARY:Orchestra Winter Concert
DESCRIPTION:Please join us for the first orchestra concert of the year.  This will include premier\, intermediate\, concert\, and chamber orchestras.  The performance will start at 7:00pm in the JAMS auditorium.  Masks are not required\, but encouraged.  Please have your musician arrive at 6:30pm and report to their director. \nClick here for guidelines on concert attire.
URL:https://www.fojam.org/event/orchestra-winter-concert-2023-2/
LOCATION:Jane Addams Middle School\, 11051 34th Ave NE\, Seattle\, WA\, 98125\, United States
CATEGORIES:Orchestra
END:VEVENT
BEGIN:VEVENT
DTSTART;VALUE=DATE:20231119
DTEND;VALUE=DATE:20231120
DTSTAMP:20260421T150249
CREATED:20231116T224223Z
LAST-MODIFIED:20231116T224348Z
UID:5072-1700352000-1700438399@www.fojam.org
SUMMARY:MOD Pizza Fundraiser
DESCRIPTION:Please support FOJAM on November 19th by ordering from MOD Pizza in Lake Forest Park. 25% of your bill will benefit music programs at Jane Addams! \n \n 
URL:https://www.fojam.org/event/mod-pizza-fundraiser-23/
LOCATION:MOD Pizza\, 17171 Bothell Way NE Suite A004\, Lake Forest Park\, 98155\, United States
CATEGORIES:Band,Choir,Orchestra
END:VEVENT
BEGIN:VEVENT
DTSTART;TZID=America/Los_Angeles:20230316T190000
DTEND;TZID=America/Los_Angeles:20230316T200000
DTSTAMP:20260421T150249
CREATED:20230113T172215Z
LAST-MODIFIED:20230113T172215Z
UID:4799-1678993200-1678996800@www.fojam.org
SUMMARY:March orchestra concert
DESCRIPTION:Please join us for our mid-year orchestra concert.  This will include premier\, intermediate\, concert\, and chamber orchestras.  The performance will start at 7:00 pm in the JAMS auditorium.  Masks are not required\, but encouraged.  Please have your musician arrive at 6:30 pm and report to their director. \nClick here for guidelines on concert attire. \nIf you would like to volunteer for this event\, please click here for the SignUpGenius.
URL:https://www.fojam.org/event/march-orchestra-concert/
LOCATION:Jane Addams Middle School\, 11051 34th Ave NE\, Seattle\, WA\, 98125\, United States
CATEGORIES:Orchestra
END:VEVENT
BEGIN:VEVENT
DTSTART;TZID=America/Los_Angeles:20221201T190000
DTEND;TZID=America/Los_Angeles:20221201T203000
DTSTAMP:20260421T150249
CREATED:20221113T203024Z
LAST-MODIFIED:20221202T001755Z
UID:4559-1669921200-1669926600@www.fojam.org
SUMMARY:Orchestra Winter Concert
DESCRIPTION:Please join us for the first orchestra concert of the year.  This will include premier\, intermediate\, concert\, and chamber orchestras.  The performance will start at 7:00pm in the JAMS auditorium.  Masks are not required\, but encouraged.  Please have your musician arrive at 6:30pm and report to their director. \nClick here for guidelines on concert attire. \nIf you would like to volunteer for this event\, please click here for the SignUpGenius. \n 
URL:https://www.fojam.org/event/orchestra-winter-concert/
LOCATION:Jane Addams Middle School\, 11051 34th Ave NE\, Seattle\, WA\, 98125\, United States
CATEGORIES:Orchestra
END:VEVENT
BEGIN:VEVENT
DTSTART;TZID=America/Los_Angeles:20220607T190000
DTEND;TZID=America/Los_Angeles:20220607T210000
DTSTAMP:20260421T150249
CREATED:20211203T044840Z
LAST-MODIFIED:20211203T044840Z
UID:4519-1654628400-1654635600@www.fojam.org
SUMMARY:Orchestra End of Year Concert (all orchestras)
DESCRIPTION:Please drop your musician off at school by 6:30 pm \n 
URL:https://www.fojam.org/event/orchestra-eoy-concert-2022/
LOCATION:Jane Addams Middle School\, 11051 34th Ave NE\, Seattle\, WA\, 98125\, United States
CATEGORIES:Orchestra
END:VEVENT
BEGIN:VEVENT
DTSTART;TZID=America/Los_Angeles:20220322T190000
DTEND;TZID=America/Los_Angeles:20220322T210000
DTSTAMP:20260421T150249
CREATED:20211203T044056Z
LAST-MODIFIED:20211203T044056Z
UID:4513-1647975600-1647982800@www.fojam.org
SUMMARY:Orchestra Spring Concert (all orchestras)
DESCRIPTION:Please drop your musician off at school by 6:30 pm \n 
URL:https://www.fojam.org/event/orchestra-spring-concert-2022/
LOCATION:Jane Addams Middle School\, 11051 34th Ave NE\, Seattle\, WA\, 98125\, United States
CATEGORIES:Orchestra
END:VEVENT
BEGIN:VEVENT
DTSTART;TZID=America/Los_Angeles:20211214T190000
DTEND;TZID=America/Los_Angeles:20211214T210000
DTSTAMP:20260421T150249
CREATED:20211203T043145Z
LAST-MODIFIED:20211203T043210Z
UID:4505-1639508400-1639515600@www.fojam.org
SUMMARY:Orchestra Winter Concert (all orchestras)
DESCRIPTION:Please drop your musician off at school by 6:30 pm \nConcert attire \nStudents are expected to wear nice\, all black clothes and shoes. No jeans\, sweats\, sneakers\, or crop tops please. Clothing should not have any obvious logos on it. Mrs. Schaefer has asked students who are choosing to wear a dress or skirt to be mindful of the fact that they are elevated on the stage and that a too-short skirt might show the audience more than they want to. Now is a good time to purchase nice black clothes\, as stores are gearing up for the holiday party season. Students often end up wearing their same concert outfit for an entire year or more. If you need financial assistance to be able to provide these items for your student\, please let Mrs. Schaefer  know as soon as possible so that arrangements can be made. \n  \nAudience attendance \nDue to SPS COVID safety requirements for in-person performances and the capacity of our auditorium\, each student will only be able to have one guest attend. All adults will be required to show proof of vaccine and all attendees will need to complete a health verification and wear masks for the duration of the performance. \nFor families and family members who can’t attend the in-person concert\, a recording will be sent out so that you can see your student’s performance. We wish everyone could be here in person\, but we realize that won’t be possible for this concert. Fingers crossed for March! \n  \nSo that we can plan for seating audience members safely\, please complete this short survey JAMS Orchestra Audience Attendance Survey.
URL:https://www.fojam.org/event/orchestra-winter-concert-2021/
LOCATION:Jane Addams Middle School\, 11051 34th Ave NE\, Seattle\, WA\, 98125\, United States
CATEGORIES:Orchestra
END:VEVENT
BEGIN:VEVENT
DTSTART;VALUE=DATE:20210505
DTEND;VALUE=DATE:20210506
DTSTAMP:20260421T150249
CREATED:20200923T051724Z
LAST-MODIFIED:20200923T051724Z
UID:4184-1620172800-1620259199@www.fojam.org
SUMMARY:Instrument Tune Up on the Lawn
DESCRIPTION:Our Band and Orchestra directors will be holding instrument tune up dates. More info about specific timing will be coming out. These events are available for students to come to JAMS and get their instruments tuned\, replace supplies (reeds\, rosin\, etc.) \nCurrent Dates Planned \nOct. 21\nNov. 18\nDec. 16\nJan. 6\nFeb. 3\nMarch 6\nApr. 7\nMay 5
URL:https://www.fojam.org/event/instrument-tune-up-on-the-lawn-8/
LOCATION:Jane Addams Middle School\, 11051 34th Ave NE\, Seattle\, WA\, 98125\, United States
CATEGORIES:Band,Orchestra
ATTACH;FMTTYPE=image/jpeg:https://www.fojam.org/wp-content/uploads/2020/09/instruments.jpg
END:VEVENT
BEGIN:VEVENT
DTSTART;VALUE=DATE:20210407
DTEND;VALUE=DATE:20210408
DTSTAMP:20260421T150249
CREATED:20200923T050952Z
LAST-MODIFIED:20200923T051303Z
UID:4182-1617753600-1617839999@www.fojam.org
SUMMARY:Instrument Tune Up on the Lawn
DESCRIPTION:Our Band and Orchestra directors will be holding instrument tune up dates. More info about specific timing will be coming out. These events are available for students to come to JAMS and get their instruments tuned\, replace supplies (reeds\, rosin\, etc.) \nCurrent Dates Planned \nOct. 21\nNov. 18\nDec. 16\nJan. 6\nFeb. 3\nMarch 6\nApr. 7\nMay 5
URL:https://www.fojam.org/event/instrument-tune-up-on-the-lawn-7/
LOCATION:Jane Addams Middle School\, 11051 34th Ave NE\, Seattle\, WA\, 98125\, United States
CATEGORIES:Band,Orchestra
ATTACH;FMTTYPE=image/jpeg:https://www.fojam.org/wp-content/uploads/2020/09/instruments.jpg
END:VEVENT
BEGIN:VEVENT
DTSTART;VALUE=DATE:20210306
DTEND;VALUE=DATE:20210307
DTSTAMP:20260421T150249
CREATED:20200923T050645Z
LAST-MODIFIED:20200923T052748Z
UID:4180-1614988800-1615075199@www.fojam.org
SUMMARY:Instrument Tune Up on the Lawn
DESCRIPTION:Our Band and Orchestra directors will be holding instrument tune up dates. More info about specific timing will be coming out. These events are available for students to come to JAMS and get their instruments tuned\, replace supplies (reeds\, rosin\, etc.) \nCurrent Dates Planned \nOct. 21\nNov. 18\nDec. 16\nJan. 6\nFeb. 3\nMarch 6\nApr. 7\nMay 5
URL:https://www.fojam.org/event/instrument-tune-up-on-the-lawn-6/
LOCATION:Jane Addams Middle School\, 11051 34th Ave NE\, Seattle\, WA\, 98125\, United States
CATEGORIES:Band,Orchestra
ATTACH;FMTTYPE=image/jpeg:https://www.fojam.org/wp-content/uploads/2020/09/instruments.jpg
END:VEVENT
BEGIN:VEVENT
DTSTART;VALUE=DATE:20210203
DTEND;VALUE=DATE:20210204
DTSTAMP:20260421T150249
CREATED:20200923T050338Z
LAST-MODIFIED:20200923T053017Z
UID:4178-1612310400-1612396799@www.fojam.org
SUMMARY:Instrument Tune Up on the Lawn
DESCRIPTION:Our Band and Orchestra directors will be holding instrument tune up dates. More info about specific timing will be coming out. These events are available for students to come to JAMS and get their instruments tuned\, replace supplies (reeds\, rosin\, etc.) \nCurrent Dates Planned \nOct. 21\nNov. 18\nDec. 16\nJan. 6\nFeb. 3\nMarch 6\nApr. 7\nMay 5
URL:https://www.fojam.org/event/instrument-tune-up-on-the-lawn-5/
LOCATION:Jane Addams Middle School\, 11051 34th Ave NE\, Seattle\, WA\, 98125\, United States
CATEGORIES:Band,Orchestra
ATTACH;FMTTYPE=image/jpeg:https://www.fojam.org/wp-content/uploads/2020/09/instruments.jpg
END:VEVENT
BEGIN:VEVENT
DTSTART;TZID=America/Los_Angeles:20210113T110000
DTEND;TZID=America/Los_Angeles:20210113T130000
DTSTAMP:20260421T150249
CREATED:20200923T050012Z
LAST-MODIFIED:20210112T120355Z
UID:4175-1610535600-1610542800@www.fojam.org
SUMMARY:Instrument Tune Up on the Lawn
DESCRIPTION:Our Band and Orchestra directors will be holding instrument tune up dates. More info about specific timing will be coming out. These events are available for students to come to JAMS and get their instruments tuned\, replace supplies (reeds\, rosin\, etc.) \nCurrent Dates Planned \nOct. 21\nNov. 18\nDec. 16\nJan. 6\nFeb. 3\nMarch 6\nApr. 7\nMay 5
URL:https://www.fojam.org/event/instrument-tune-up-on-the-lawn-4/
LOCATION:Jane Addams Middle School\, 11051 34th Ave NE\, Seattle\, WA\, 98125\, United States
CATEGORIES:Band,Orchestra
ATTACH;FMTTYPE=image/jpeg:https://www.fojam.org/wp-content/uploads/2020/09/instruments.jpg
END:VEVENT
BEGIN:VEVENT
DTSTART;VALUE=DATE:20201216
DTEND;VALUE=DATE:20201217
DTSTAMP:20260421T150249
CREATED:20200923T045527Z
LAST-MODIFIED:20200923T045527Z
UID:4173-1608076800-1608163199@www.fojam.org
SUMMARY:Instrument Tune Up on the Lawn
DESCRIPTION:Our Band and Orchestra directors will be holding instrument tune up dates. More info about specific timing will be coming out. These events are available for students to come to JAMS and get their instruments tuned\, replace supplies (reeds\, rosin\, etc.) \nCurrent Dates Planned \nOct. 21\nNov. 18\nDec. 16\nJan. 6\nFeb. 3\nMarch 6\nApr. 7\nMay 5
URL:https://www.fojam.org/event/instrument-tune-up-on-the-lawn-3/
LOCATION:Jane Addams Middle School\, 11051 34th Ave NE\, Seattle\, WA\, 98125\, United States
CATEGORIES:Band,Orchestra
ATTACH;FMTTYPE=image/jpeg:https://www.fojam.org/wp-content/uploads/2020/09/instruments.jpg
END:VEVENT
BEGIN:VEVENT
DTSTART;VALUE=DATE:20201118
DTEND;VALUE=DATE:20201119
DTSTAMP:20260421T150249
CREATED:20200923T045302Z
LAST-MODIFIED:20200923T045423Z
UID:4171-1605657600-1605743999@www.fojam.org
SUMMARY:Instrument Tune Up on the Lawn
DESCRIPTION:Our Band and Orchestra directors will be holding instrument tune up dates. More info about specific timing will be coming out. These events are available for students to come to JAMS and get their instruments tuned\, replace supplies (reeds\, rosin\, etc.) \nCurrent Dates Planned \nOct. 21\nNov. 18\nDec. 16\nJan. 6\nFeb. 3\nMarch 6\nApr. 7\nMay 5
URL:https://www.fojam.org/event/instrument-tune-up-on-the-lawn-2/
LOCATION:Jane Addams Middle School\, 11051 34th Ave NE\, Seattle\, WA\, 98125\, United States
CATEGORIES:Band,Orchestra
ATTACH;FMTTYPE=image/jpeg:https://www.fojam.org/wp-content/uploads/2020/09/instruments.jpg
END:VEVENT
BEGIN:VEVENT
DTSTART;VALUE=DATE:20201021
DTEND;VALUE=DATE:20201022
DTSTAMP:20260421T150249
CREATED:20200923T044904Z
LAST-MODIFIED:20200923T045009Z
UID:4164-1603238400-1603324799@www.fojam.org
SUMMARY:Instrument Tune Up on the Lawn
DESCRIPTION:Our Band and Orchestra directors will be holding instrument tune up dates. More info about specific timing will be coming out. These events are available for students to come to JAMS and get their instruments tuned\, replace supplies (reeds\, rosin\, etc.) \nCurrent Dates Planned \nOct. 21\nNov. 18\nDec. 16\nJan. 6\nFeb. 3\nMarch 6\nApr. 7\nMay 5
URL:https://www.fojam.org/event/instrument-tune-up-on-the-lawn/
LOCATION:Jane Addams Middle School\, 11051 34th Ave NE\, Seattle\, WA\, 98125\, United States
CATEGORIES:Band,Orchestra
ATTACH;FMTTYPE=image/jpeg:https://www.fojam.org/wp-content/uploads/2020/09/instruments.jpg
END:VEVENT
BEGIN:VEVENT
DTSTART;TZID=America/Los_Angeles:20200917T190000
DTEND;TZID=America/Los_Angeles:20200917T200000
DTSTAMP:20260421T150249
CREATED:20200915T031226Z
LAST-MODIFIED:20200915T031226Z
UID:4156-1600369200-1600372800@www.fojam.org
SUMMARY:Music Department Info Session
DESCRIPTION:The JAMS Music Department will be hosting a informational meeting on Microsoft Teams. Use the link below to join the meeting. \nJAMS Music Department Information Session
URL:https://www.fojam.org/event/music-department-info-session/
LOCATION:WA
CATEGORIES:Band,Choir,Orchestra
END:VEVENT
BEGIN:VEVENT
DTSTART;TZID=America/Los_Angeles:20200713T090000
DTEND;TZID=America/Los_Angeles:20200724T121000
DTSTAMP:20260421T150249
CREATED:20200215T205857Z
LAST-MODIFIED:20200215T210028Z
UID:4086-1594630800-1595592600@www.fojam.org
SUMMARY:SYSO Summer Music
DESCRIPTION:Where: Shorecrest High School \nWhen: July 6-17\, 9 a.m. – 12:10 p.m.  \nor  \nWhere: Newport High School \nWhen: July 13-24\, 9 a.m. to 12:10 p.m.  \nBest for students who have completed at least Junior Band or Orchestra. Saxophones not eligible. \n Highly recommended. https://syso.org/programs/summer-music/ \nFor a list of ALL summer camp options\, please see our 2020 Music Summer Camps post!
URL:https://www.fojam.org/event/syso-summer-music-2/
LOCATION:Newport High School\, 4333 Factoria Blvd. SE\, Bellevue\, WA\, 98006\, United States
CATEGORIES:Band,Orchestra,Summer Camp
END:VEVENT
BEGIN:VEVENT
DTSTART;TZID=America/Los_Angeles:20200706T090000
DTEND;TZID=America/Los_Angeles:20200717T121000
DTSTAMP:20260421T150249
CREATED:20200215T205635Z
LAST-MODIFIED:20200215T205635Z
UID:4083-1594026000-1594987800@www.fojam.org
SUMMARY:SYSO Summer Music
DESCRIPTION:Where: Shorecrest High School \nWhen: July 6-17\, 9 a.m. – 12:10 p.m.  \nor  \nWhere: Newport High School \nWhen: July 13-24\, 9 a.m. to 12:10 p.m.  \nBest for students who have completed at least Junior Band or Orchestra. Saxophones not eligible. \n Highly recommended. https://syso.org/programs/summer-music/
URL:https://www.fojam.org/event/syso-summer-music/
LOCATION:Shorecrest High School\, 15343 25th Ave. N.E.\, Shoreline\, WA\, 98155\, United States
CATEGORIES:Band,Orchestra,Summer Camp
END:VEVENT
BEGIN:VEVENT
DTSTART;VALUE=DATE:20200622
DTEND;VALUE=DATE:20200623
DTSTAMP:20260421T150249
CREATED:20200215T205138Z
LAST-MODIFIED:20200215T205138Z
UID:4081-1592784000-1592870399@www.fojam.org
SUMMARY:SPS Summer Music\, All-City Band & Junior All-City Band
DESCRIPTION:Actual Dates TBD!!! \nThree weeks\, tbd.  9 a.m. to noon\, Jane Addams Middle School. Best for students who are entering 6th grade or have completed Intermediate Band or Orchestra; the All-City Bands are marching bands that perform in parades around the region. Super-fun!  \nMusic During Summer Break
URL:https://www.fojam.org/event/sps-summer-music-all-city-band-junior-all-city-band/
LOCATION:Jane Addams Middle School\, 11051 34th Ave NE\, Seattle\, WA\, 98125\, United States
CATEGORIES:Band,Orchestra,Summer Camp
END:VEVENT
BEGIN:VEVENT
DTSTART;TZID=America/Los_Angeles:20200611T190000
DTEND;TZID=America/Los_Angeles:20200611T210000
DTSTAMP:20260421T150249
CREATED:20191024T185453Z
LAST-MODIFIED:20191024T190215Z
UID:3913-1591902000-1591909200@www.fojam.org
SUMMARY:Orchestra Concert (all orchestras)
DESCRIPTION:Please drop your musician off at school by 6:30 pm
URL:https://www.fojam.org/event/orchestra-concert-all-orchestras-3/
LOCATION:Jane Addams Middle School\, 11051 34th Ave NE\, Seattle\, WA\, 98125\, United States
CATEGORIES:Orchestra
END:VEVENT
END:VCALENDAR