BEGIN:VCALENDAR
VERSION:2.0
PRODID:-//Friends of Jane Addams Music - ECPv6.15.17.1//NONSGML v1.0//EN
CALSCALE:GREGORIAN
METHOD:PUBLISH
X-ORIGINAL-URL:https://www.fojam.org
X-WR-CALDESC:Events for Friends of Jane Addams Music
REFRESH-INTERVAL;VALUE=DURATION:PT1H
X-Robots-Tag:noindex
X-PUBLISHED-TTL:PT1H
BEGIN:VTIMEZONE
TZID:America/Los_Angeles
BEGIN:DAYLIGHT
TZOFFSETFROM:-0800
TZOFFSETTO:-0700
TZNAME:PDT
DTSTART:20250309T100000
END:DAYLIGHT
BEGIN:STANDARD
TZOFFSETFROM:-0700
TZOFFSETTO:-0800
TZNAME:PST
DTSTART:20251102T090000
END:STANDARD
BEGIN:DAYLIGHT
TZOFFSETFROM:-0800
TZOFFSETTO:-0700
TZNAME:PDT
DTSTART:20260308T100000
END:DAYLIGHT
BEGIN:STANDARD
TZOFFSETFROM:-0700
TZOFFSETTO:-0800
TZNAME:PST
DTSTART:20261101T090000
END:STANDARD
BEGIN:DAYLIGHT
TZOFFSETFROM:-0800
TZOFFSETTO:-0700
TZNAME:PDT
DTSTART:20270314T100000
END:DAYLIGHT
BEGIN:STANDARD
TZOFFSETFROM:-0700
TZOFFSETTO:-0800
TZNAME:PST
DTSTART:20271107T090000
END:STANDARD
END:VTIMEZONE
BEGIN:VEVENT
DTSTART;TZID=America/Los_Angeles:20260312T190000
DTEND;TZID=America/Los_Angeles:20260312T203000
DTSTAMP:20260421T114637
CREATED:20260306T182622Z
LAST-MODIFIED:20260306T182933Z
UID:5500-1773342000-1773347400@www.fojam.org
SUMMARY:Orchestra Spring Concert
DESCRIPTION:Please join us for this Spring Concert. The performance will take place in the JAMS auditorium. Please have your musician arrive by 6:30pm and report to their director. Check guidelines on concert attire.
URL:https://www.fojam.org/event/orchestra-spring-concert-2/
LOCATION:Jane Addams Middle School\, 11051 34th Ave NE\, Seattle\, WA\, 98125\, United States
CATEGORIES:Orchestra
END:VEVENT
BEGIN:VEVENT
DTSTART;VALUE=DATE:20260313
DTEND;VALUE=DATE:20260315
DTSTAMP:20260421T114637
CREATED:20260306T185252Z
LAST-MODIFIED:20260306T185252Z
UID:5516-1773360000-1773532799@www.fojam.org
SUMMARY:W-ASTA/WWU State Orchestra Festival
DESCRIPTION:Concert orchestra overnight trip to Bellingham
URL:https://www.fojam.org/event/w-asta-wwu-state-orchestra-festival/
CATEGORIES:Orchestra
END:VEVENT
END:VCALENDAR