BEGIN:VCALENDAR
VERSION:2.0
PRODID:-//Friends of Jane Addams Music - ECPv6.15.17.1//NONSGML v1.0//EN
CALSCALE:GREGORIAN
METHOD:PUBLISH
X-WR-CALNAME:Friends of Jane Addams Music
X-ORIGINAL-URL:https://www.fojam.org
X-WR-CALDESC:Events for Friends of Jane Addams Music
REFRESH-INTERVAL;VALUE=DURATION:PT1H
X-Robots-Tag:noindex
X-PUBLISHED-TTL:PT1H
BEGIN:VTIMEZONE
TZID:America/Los_Angeles
BEGIN:DAYLIGHT
TZOFFSETFROM:-0800
TZOFFSETTO:-0700
TZNAME:PDT
DTSTART:20200308T100000
END:DAYLIGHT
BEGIN:STANDARD
TZOFFSETFROM:-0700
TZOFFSETTO:-0800
TZNAME:PST
DTSTART:20201101T090000
END:STANDARD
BEGIN:DAYLIGHT
TZOFFSETFROM:-0800
TZOFFSETTO:-0700
TZNAME:PDT
DTSTART:20210314T100000
END:DAYLIGHT
BEGIN:STANDARD
TZOFFSETFROM:-0700
TZOFFSETTO:-0800
TZNAME:PST
DTSTART:20211107T090000
END:STANDARD
BEGIN:DAYLIGHT
TZOFFSETFROM:-0800
TZOFFSETTO:-0700
TZNAME:PDT
DTSTART:20220313T100000
END:DAYLIGHT
BEGIN:STANDARD
TZOFFSETFROM:-0700
TZOFFSETTO:-0800
TZNAME:PST
DTSTART:20221106T090000
END:STANDARD
END:VTIMEZONE
BEGIN:VEVENT
DTSTART;VALUE=DATE:20210407
DTEND;VALUE=DATE:20210408
DTSTAMP:20260425T092131
CREATED:20200923T050952Z
LAST-MODIFIED:20200923T051303Z
UID:4182-1617753600-1617839999@www.fojam.org
SUMMARY:Instrument Tune Up on the Lawn
DESCRIPTION:Our Band and Orchestra directors will be holding instrument tune up dates. More info about specific timing will be coming out. These events are available for students to come to JAMS and get their instruments tuned\, replace supplies (reeds\, rosin\, etc.) \nCurrent Dates Planned \nOct. 21\nNov. 18\nDec. 16\nJan. 6\nFeb. 3\nMarch 6\nApr. 7\nMay 5
URL:https://www.fojam.org/event/instrument-tune-up-on-the-lawn-7/
LOCATION:Jane Addams Middle School\, 11051 34th Ave NE\, Seattle\, WA\, 98125\, United States
CATEGORIES:Band,Orchestra
ATTACH;FMTTYPE=image/jpeg:https://www.fojam.org/wp-content/uploads/2020/09/instruments.jpg
END:VEVENT
END:VCALENDAR