BEGIN:VCALENDAR
VERSION:2.0
PRODID:-//Friends of Jane Addams Music - ECPv6.15.17.1//NONSGML v1.0//EN
CALSCALE:GREGORIAN
METHOD:PUBLISH
X-ORIGINAL-URL:https://www.fojam.org
X-WR-CALDESC:Events for Friends of Jane Addams Music
REFRESH-INTERVAL;VALUE=DURATION:PT1H
X-Robots-Tag:noindex
X-PUBLISHED-TTL:PT1H
BEGIN:VTIMEZONE
TZID:America/Los_Angeles
BEGIN:DAYLIGHT
TZOFFSETFROM:-0800
TZOFFSETTO:-0700
TZNAME:PDT
DTSTART:20240310T100000
END:DAYLIGHT
BEGIN:STANDARD
TZOFFSETFROM:-0700
TZOFFSETTO:-0800
TZNAME:PST
DTSTART:20241103T090000
END:STANDARD
BEGIN:DAYLIGHT
TZOFFSETFROM:-0800
TZOFFSETTO:-0700
TZNAME:PDT
DTSTART:20250309T100000
END:DAYLIGHT
BEGIN:STANDARD
TZOFFSETFROM:-0700
TZOFFSETTO:-0800
TZNAME:PST
DTSTART:20251102T090000
END:STANDARD
BEGIN:DAYLIGHT
TZOFFSETFROM:-0800
TZOFFSETTO:-0700
TZNAME:PDT
DTSTART:20260308T100000
END:DAYLIGHT
BEGIN:STANDARD
TZOFFSETFROM:-0700
TZOFFSETTO:-0800
TZNAME:PST
DTSTART:20261101T090000
END:STANDARD
BEGIN:DAYLIGHT
TZOFFSETFROM:-0800
TZOFFSETTO:-0700
TZNAME:PDT
DTSTART:20270314T100000
END:DAYLIGHT
BEGIN:STANDARD
TZOFFSETFROM:-0700
TZOFFSETTO:-0800
TZNAME:PST
DTSTART:20271107T090000
END:STANDARD
END:VTIMEZONE
BEGIN:VEVENT
DTSTART;TZID=America/Los_Angeles:20250320T190000
DTEND;TZID=America/Los_Angeles:20250320T203000
DTSTAMP:20260423T045644
CREATED:20250129T005442Z
LAST-MODIFIED:20250129T005442Z
UID:5327-1742497200-1742502600@www.fojam.org
SUMMARY:Choir Spring Concert 2025
DESCRIPTION:Please join us for the second choir concert of the school year featuring the intermediate and concert choirs.  The performance will take place on Thursday\, March 20th starting at 7:00pm in the JAMS auditorium. Please have your musician arrive by 6:30pm and report to their director. \nCheck here for guidelines on concert attire.
URL:https://www.fojam.org/event/choir-spring-concert-2025/
LOCATION:Jane Addams Middle School\, 11051 34th Ave NE\, Seattle\, WA\, 98125\, United States
CATEGORIES:Choir
END:VEVENT
BEGIN:VEVENT
DTSTART;VALUE=DATE:20250401
DTEND;VALUE=DATE:20250402
DTSTAMP:20260423T045644
CREATED:20250318T044557Z
LAST-MODIFIED:20250318T050628Z
UID:5347-1743465600-1743551999@www.fojam.org
SUMMARY:Red Robin Fundraiser
DESCRIPTION:Come support music at Jane Addams by dining out at Red Robin on Tuesday\, April 1st! Twenty percent of sales will go to FOJAM to benefit music programs for all students at JAMS. \n 
URL:https://www.fojam.org/event/red-robin-fundraiser/
LOCATION:Red Robin\, 401 NE Northgate Way #430\, Seattle\, WA\, 98125\, United States
CATEGORIES:Band,Choir,Orchestra
ATTACH;FMTTYPE=application/pdf:https://www.fojam.org/wp-content/uploads/2025/03/Fojam_RedRobin_Flyer_2025.pdf
END:VEVENT
BEGIN:VEVENT
DTSTART;TZID=America/Los_Angeles:20250610T190000
DTEND;TZID=America/Los_Angeles:20250610T203000
DTSTAMP:20260423T045644
CREATED:20250325T223252Z
LAST-MODIFIED:20250325T223252Z
UID:5374-1749582000-1749587400@www.fojam.org
SUMMARY:Choir Summer Concert 2025
DESCRIPTION:Please join us for the final choir concert of the school year featuring the intermediate and concert choirs.  The performance will take place on Tuesday\, June 10th starting at 7:00pm in the JAMS auditorium. Please have your musician arrive by 6:30pm and report to their director. \nCheck here for guidelines on concert attire.
URL:https://www.fojam.org/event/choir-summer-concert-2025/
LOCATION:Jane Addams Middle School\, 11051 34th Ave NE\, Seattle\, WA\, 98125\, United States
CATEGORIES:Choir
END:VEVENT
BEGIN:VEVENT
DTSTART;VALUE=DATE:20250622
DTEND;VALUE=DATE:20250627
DTSTAMP:20260423T045644
CREATED:20250611T141245Z
LAST-MODIFIED:20250611T141245Z
UID:5403-1750550400-1750982399@www.fojam.org
SUMMARY:Tutta Bella Fundraiser June 22-26
DESCRIPTION:Show your support for FOJAM from Sunday\, June 22nd through Thursday\, June 26th by ordering pizza from Tutta Bella locations throughout the Seattle area. A portion of your bill will benefit music programs at Jane Addams. Order in person or online using the code EasyAsPieFOJAM. Invite your friends and family and enjoy a delicious meal while supporting a great cause!
URL:https://www.fojam.org/event/tutta-bella-fundraiser-june-22-26/
LOCATION:WA
CATEGORIES:Band,Choir,Orchestra
ATTACH;FMTTYPE=application/pdf:https://www.fojam.org/wp-content/uploads/2025/06/FOJAM-Tutta-Bella-3.pdf
END:VEVENT
BEGIN:VEVENT
DTSTART;TZID=America/Los_Angeles:20251218T190000
DTEND;TZID=America/Los_Angeles:20251218T203000
DTSTAMP:20260423T045644
CREATED:20250906T183322Z
LAST-MODIFIED:20250906T183322Z
UID:5417-1766084400-1766089800@www.fojam.org
SUMMARY:Choir Winter Concert 2025
DESCRIPTION:Please join us for the first choir concert of the school year featuring the Intermediate and Concert choirs.  The performance will take place on Thursday\, December 18th starting at 7:00pm in the JAMS auditorium. Please have your musician arrive by 6:30pm and report to their director. \nCheck here for guidelines on concert attire.
URL:https://www.fojam.org/event/choir-winter-concert-2025/
LOCATION:Jane Addams Middle School\, 11051 34th Ave NE\, Seattle\, WA\, 98125\, United States
CATEGORIES:Choir
END:VEVENT
BEGIN:VEVENT
DTSTART;TZID=America/Los_Angeles:20260326T190000
DTEND;TZID=America/Los_Angeles:20260326T203000
DTSTAMP:20260423T045644
CREATED:20260306T183216Z
LAST-MODIFIED:20260306T183216Z
UID:5506-1774551600-1774557000@www.fojam.org
SUMMARY:Choir Spring Concert
DESCRIPTION:Please join us for this Spring Concert. The performance will take place in the JAMS auditorium. Please have your musician arrive by 6:30pm and report to their director. Check guidelines on concert attire.
URL:https://www.fojam.org/event/choir-spring-concert/
LOCATION:Jane Addams Middle School\, 11051 34th Ave NE\, Seattle\, WA\, 98125\, United States
CATEGORIES:Choir
END:VEVENT
BEGIN:VEVENT
DTSTART;VALUE=DATE:20260513
DTEND;VALUE=DATE:20260514
DTSTAMP:20260423T045644
CREATED:20260306T185516Z
LAST-MODIFIED:20260306T185516Z
UID:5518-1778630400-1778716799@www.fojam.org
SUMMARY:EBMEA Choir Festival
DESCRIPTION:
URL:https://www.fojam.org/event/ebmea-choir-festival/
LOCATION:Jane Addams Middle School\, 11051 34th Ave NE\, Seattle\, WA\, 98125\, United States
CATEGORIES:Choir
END:VEVENT
END:VCALENDAR